BEGIN:VCALENDAR
VERSION:2.0
PRODID:-//Goldgrube//myauktion.com//AT
CALSCALE:GREGORIAN
BEGIN:VEVENT
DTSTART:20260426T161100
DTEND:20260426T161130
LOCATION:Gewerbepark 13, 8562 Mooskirchen
DTSTAMP:20260421T203855
SUMMARY:MyAuktion: Ablauf Artikel Nr. 923588 Kleines Wieso, Weshalb, Warum Buch
URL;VALUE=URI:https://www.myauktion.com/versteigerung7662-position2443109-kleines-wieso-weshalb-warum-buch.php
DESCRIPTION:Die Baustelle, gebraucht, Klappen teilweise beschädigt 
UID:myauktion-7662-2443109
BEGIN:VALARM
ACTION:DISPLAY
DESCRIPTION:Die Baustelle, gebraucht, Klappen teilweise beschädigt 
TRIGGER:-PT10M
END:VALARM
END:VEVENT
END:VCALENDAR