BEGIN:VCALENDAR
VERSION:2.0
PRODID:-//Goldgrube//myauktion.com//AT
CALSCALE:GREGORIAN
BEGIN:VEVENT
DTSTART:20260426T161300
DTEND:20260426T161330
LOCATION:Gewerbepark 13, 8562 Mooskirchen
DTSTAMP:20260421T203857
SUMMARY:MyAuktion: Ablauf Artikel Nr. 923590 Hilfen bei Stress und Belastung 
URL;VALUE=URI:https://www.myauktion.com/versteigerung7662-position2443111-hilfen-bei-stress-und-belastung.php
DESCRIPTION:
UID:myauktion-7662-2443111
BEGIN:VALARM
ACTION:DISPLAY
DESCRIPTION:
TRIGGER:-PT10M
END:VALARM
END:VEVENT
END:VCALENDAR