BEGIN:VCALENDAR
VERSION:2.0
PRODID:-//Goldgrube//myauktion.com//AT
CALSCALE:GREGORIAN
BEGIN:VEVENT
DTSTART:20260426T161400
DTEND:20260426T161430
LOCATION:Gewerbepark 13, 8562 Mooskirchen
DTSTAMP:20260421T203903
SUMMARY:MyAuktion: Ablauf Artikel Nr. 923591 Arbeit mit Tensoren
URL;VALUE=URI:https://www.myauktion.com/versteigerung7662-position2443112-arbeit-mit-tensoren.php
DESCRIPTION:Theorie & Praxis
UID:myauktion-7662-2443112
BEGIN:VALARM
ACTION:DISPLAY
DESCRIPTION:Theorie & Praxis
TRIGGER:-PT10M
END:VALARM
END:VEVENT
END:VCALENDAR