BEGIN:VCALENDAR
VERSION:2.0
PRODID:-//Goldgrube//myauktion.com//AT
CALSCALE:GREGORIAN
BEGIN:VEVENT
DTSTART:20260426T161700
DTEND:20260426T161730
LOCATION:Gewerbepark 13, 8562 Mooskirchen
DTSTAMP:20260421T203902
SUMMARY:MyAuktion: Ablauf Artikel Nr. 923594 Unbegrenzte Lebenskraft durch Tachyonen
URL;VALUE=URI:https://www.myauktion.com/versteigerung7662-position2443115-unbegrenzte-lebenskraft-durch-tachyonen.php
DESCRIPTION:
UID:myauktion-7662-2443115
BEGIN:VALARM
ACTION:DISPLAY
DESCRIPTION:
TRIGGER:-PT10M
END:VALARM
END:VEVENT
END:VCALENDAR