BEGIN:VCALENDAR
VERSION:2.0
PRODID:-//Goldgrube//myauktion.com//AT
CALSCALE:GREGORIAN
BEGIN:VEVENT
DTSTART:20260426T161900
DTEND:20260426T161930
LOCATION:Gewerbepark 13, 8562 Mooskirchen
DTSTAMP:20260421T203855
SUMMARY:MyAuktion: Ablauf Artikel Nr. 923596 Die Erkenntnisse von Celestine
URL;VALUE=URI:https://www.myauktion.com/versteigerung7662-position2443117-die-erkenntnisse-von-celestine.php
DESCRIPTION:
UID:myauktion-7662-2443117
BEGIN:VALARM
ACTION:DISPLAY
DESCRIPTION:
TRIGGER:-PT10M
END:VALARM
END:VEVENT
END:VCALENDAR