BEGIN:VCALENDAR
VERSION:2.0
PRODID:-//Goldgrube//myauktion.com//AT
CALSCALE:GREGORIAN
BEGIN:VEVENT
DTSTART:20260426T162100
DTEND:20260426T162130
LOCATION:Gewerbepark 13, 8562 Mooskirchen
DTSTAMP:20260421T203902
SUMMARY:MyAuktion: Ablauf Artikel Nr. 923598 Die richtige Schwingung heilt 
URL;VALUE=URI:https://www.myauktion.com/versteigerung7662-position2443119-die-richtige-schwingung-heilt.php
DESCRIPTION:Das Praxisbuch für Bachblüten, Schüßlersalze und Farben 
UID:myauktion-7662-2443119
BEGIN:VALARM
ACTION:DISPLAY
DESCRIPTION:Das Praxisbuch für Bachblüten, Schüßlersalze und Farben 
TRIGGER:-PT10M
END:VALARM
END:VEVENT
END:VCALENDAR