BEGIN:VCALENDAR
VERSION:2.0
PRODID:-//Goldgrube//myauktion.com//AT
CALSCALE:GREGORIAN
BEGIN:VEVENT
DTSTART:20260426T162200
DTEND:20260426T162230
LOCATION:Gewerbepark 13, 8562 Mooskirchen
DTSTAMP:20260421T203846
SUMMARY:MyAuktion: Ablauf Artikel Nr. 923599 LOSLASSEN, als Lebenshilfe und Heilung 
URL;VALUE=URI:https://www.myauktion.com/versteigerung7662-position2443120-loslassen-als-lebenshilfe-und-heilung.php
DESCRIPTION:
UID:myauktion-7662-2443120
BEGIN:VALARM
ACTION:DISPLAY
DESCRIPTION:
TRIGGER:-PT10M
END:VALARM
END:VEVENT
END:VCALENDAR