BEGIN:VCALENDAR
VERSION:2.0
PRODID:-//Goldgrube//myauktion.com//AT
CALSCALE:GREGORIAN
BEGIN:VEVENT
DTSTART:20260426T162300
DTEND:20260426T162330
LOCATION:Gewerbepark 13, 8562 Mooskirchen
DTSTAMP:20260421T203859
SUMMARY:MyAuktion: Ablauf Artikel Nr. 923600 Finde deine Träume 
URL;VALUE=URI:https://www.myauktion.com/versteigerung7662-position2443121-finde-deine-traeume.php
DESCRIPTION:
UID:myauktion-7662-2443121
BEGIN:VALARM
ACTION:DISPLAY
DESCRIPTION:
TRIGGER:-PT10M
END:VALARM
END:VEVENT
END:VCALENDAR