BEGIN:VCALENDAR
VERSION:2.0
PRODID:-//Goldgrube//myauktion.com//AT
CALSCALE:GREGORIAN
BEGIN:VEVENT
DTSTART:20260426T162500
DTEND:20260426T162530
LOCATION:Gewerbepark 13, 8562 Mooskirchen
DTSTAMP:20260421T203850
SUMMARY:MyAuktion: Ablauf Artikel Nr. 923602 Einfach besser konzentrieren 
URL;VALUE=URI:https://www.myauktion.com/versteigerung7662-position2443123-einfach-besser-konzentrieren.php
DESCRIPTION:
UID:myauktion-7662-2443123
BEGIN:VALARM
ACTION:DISPLAY
DESCRIPTION:
TRIGGER:-PT10M
END:VALARM
END:VEVENT
END:VCALENDAR