BEGIN:VCALENDAR
VERSION:2.0
PRODID:-//Goldgrube//myauktion.com//AT
CALSCALE:GREGORIAN
BEGIN:VEVENT
DTSTART:20260426T162700
DTEND:20260426T162730
LOCATION:Gewerbepark 13, 8562 Mooskirchen
DTSTAMP:20260421T203853
SUMMARY:MyAuktion: Ablauf Artikel Nr. 923604 Shakespears Werke
URL;VALUE=URI:https://www.myauktion.com/versteigerung7662-position2443125-shakespears-werke.php
DESCRIPTION:Antikes Buch mit Illustrationen 
UID:myauktion-7662-2443125
BEGIN:VALARM
ACTION:DISPLAY
DESCRIPTION:Antikes Buch mit Illustrationen 
TRIGGER:-PT10M
END:VALARM
END:VEVENT
END:VCALENDAR