BEGIN:VCALENDAR
VERSION:2.0
PRODID:-//Goldgrube//myauktion.com//AT
CALSCALE:GREGORIAN
BEGIN:VEVENT
DTSTART:20260426T163000
DTEND:20260426T163030
LOCATION:Gewerbepark 13, 8562 Mooskirchen
DTSTAMP:20260421T185421
SUMMARY:MyAuktion: Ablauf Artikel Nr. 923607 Mini Lük, Malnehmen und Teilen 
URL;VALUE=URI:https://www.myauktion.com/versteigerung7662-position2443128-mini-luek-malnehmen-und-teilen.php
DESCRIPTION:
UID:myauktion-7662-2443128
BEGIN:VALARM
ACTION:DISPLAY
DESCRIPTION:
TRIGGER:-PT10M
END:VALARM
END:VEVENT
END:VCALENDAR