BEGIN:VCALENDAR
VERSION:2.0
PRODID:-//Goldgrube//myauktion.com//AT
CALSCALE:GREGORIAN
BEGIN:VEVENT
DTSTART:20260426T163100
DTEND:20260426T163130
LOCATION:Gewerbepark 13, 8562 Mooskirchen
DTSTAMP:20260421T203903
SUMMARY:MyAuktion: Ablauf Artikel Nr. 923608 Originalverpackt, Masterpieces of the Collection of Historic Musical Instruments
URL;VALUE=URI:https://www.myauktion.com/versteigerung7662-position2443129-originalverpackt-masterpieces-of-the-collection-of-historic-musical-instruments.php
DESCRIPTION:
UID:myauktion-7662-2443129
BEGIN:VALARM
ACTION:DISPLAY
DESCRIPTION:
TRIGGER:-PT10M
END:VALARM
END:VEVENT
END:VCALENDAR