BEGIN:VCALENDAR
VERSION:2.0
PRODID:-//Goldgrube//myauktion.com//AT
CALSCALE:GREGORIAN
BEGIN:VEVENT
DTSTART:20260426T163300
DTEND:20260426T163330
LOCATION:Gewerbepark 13, 8562 Mooskirchen
DTSTAMP:20260421T203856
SUMMARY:MyAuktion: Ablauf Artikel Nr. 923610 Quanten Medizin
URL;VALUE=URI:https://www.myauktion.com/versteigerung7662-position2443131-quanten-medizin.php
DESCRIPTION:Wie Sie als Patient maßgeblich zur Heilung beitragen können 
UID:myauktion-7662-2443131
BEGIN:VALARM
ACTION:DISPLAY
DESCRIPTION:Wie Sie als Patient maßgeblich zur Heilung beitragen können 
TRIGGER:-PT10M
END:VALARM
END:VEVENT
END:VCALENDAR