BEGIN:VCALENDAR
VERSION:2.0
PRODID:-//Goldgrube//myauktion.com//AT
CALSCALE:GREGORIAN
BEGIN:VEVENT
DTSTART:20260426T163400
DTEND:20260426T163430
LOCATION:Gewerbepark 13, 8562 Mooskirchen
DTSTAMP:20260421T203852
SUMMARY:MyAuktion: Ablauf Artikel Nr. 923611 Gesundheit in unserem Händen 
URL;VALUE=URI:https://www.myauktion.com/versteigerung7662-position2443132-gesundheit-in-unserem-haenden.php
DESCRIPTION:
UID:myauktion-7662-2443132
BEGIN:VALARM
ACTION:DISPLAY
DESCRIPTION:
TRIGGER:-PT10M
END:VALARM
END:VEVENT
END:VCALENDAR