BEGIN:VCALENDAR
VERSION:2.0
PRODID:-//Goldgrube//myauktion.com//AT
CALSCALE:GREGORIAN
BEGIN:VEVENT
DTSTART:20260426T163700
DTEND:20260426T163730
LOCATION:Gewerbepark 13, 8562 Mooskirchen
DTSTAMP:20260421T203856
SUMMARY:MyAuktion: Ablauf Artikel Nr. 923614 Meine Lieblingstiere
URL;VALUE=URI:https://www.myauktion.com/versteigerung7662-position2443135-meine-lieblingstiere.php
DESCRIPTION:Hartkartonbuch 
UID:myauktion-7662-2443135
BEGIN:VALARM
ACTION:DISPLAY
DESCRIPTION:Hartkartonbuch 
TRIGGER:-PT10M
END:VALARM
END:VEVENT
END:VCALENDAR