BEGIN:VCALENDAR
VERSION:2.0
PRODID:-//Goldgrube//myauktion.com//AT
CALSCALE:GREGORIAN
BEGIN:VEVENT
DTSTART:20260426T163900
DTEND:20260426T163930
LOCATION:Gewerbepark 13, 8562 Mooskirchen
DTSTAMP:20260421T203858
SUMMARY:MyAuktion: Ablauf Artikel Nr. 923616 Meinen Körper in meine Hände nehmen 
URL;VALUE=URI:https://www.myauktion.com/versteigerung7662-position2443137-meinen-koerper-in-meine-haende-nehmen.php
DESCRIPTION:
UID:myauktion-7662-2443137
BEGIN:VALARM
ACTION:DISPLAY
DESCRIPTION:
TRIGGER:-PT10M
END:VALARM
END:VEVENT
END:VCALENDAR