BEGIN:VCALENDAR
VERSION:2.0
PRODID:-//Goldgrube//myauktion.com//AT
CALSCALE:GREGORIAN
BEGIN:VEVENT
DTSTART:20260426T164100
DTEND:20260426T164130
LOCATION:Gewerbepark 13, 8562 Mooskirchen
DTSTAMP:20260421T203852
SUMMARY:MyAuktion: Ablauf Artikel Nr. 923618 Liebe dich selbst und es ist egal, wen du heiratest
URL;VALUE=URI:https://www.myauktion.com/versteigerung7662-position2443139-liebe-dich-selbst-und-es-ist-egal-wen-du-heiratest.php
DESCRIPTION:
UID:myauktion-7662-2443139
BEGIN:VALARM
ACTION:DISPLAY
DESCRIPTION:
TRIGGER:-PT10M
END:VALARM
END:VEVENT
END:VCALENDAR