BEGIN:VCALENDAR
VERSION:2.0
PRODID:-//Goldgrube//myauktion.com//AT
CALSCALE:GREGORIAN
BEGIN:VEVENT
DTSTART:20260426T164600
DTEND:20260426T164630
LOCATION:Gewerbepark 13, 8562 Mooskirchen
DTSTAMP:20260421T203856
SUMMARY:MyAuktion: Ablauf Artikel Nr. 923623 Maria Treben, Heilkräuter aus dem Garten Gottes
URL;VALUE=URI:https://www.myauktion.com/versteigerung7662-position2443144-maria-treben-heilkraeuter-aus-dem-garten-gottes.php
DESCRIPTION:
UID:myauktion-7662-2443144
BEGIN:VALARM
ACTION:DISPLAY
DESCRIPTION:
TRIGGER:-PT10M
END:VALARM
END:VEVENT
END:VCALENDAR