BEGIN:VCALENDAR
VERSION:2.0
PRODID:-//Goldgrube//myauktion.com//AT
CALSCALE:GREGORIAN
BEGIN:VEVENT
DTSTART:20260426T164700
DTEND:20260426T164730
LOCATION:Gewerbepark 13, 8562 Mooskirchen
DTSTAMP:20260421T203901
SUMMARY:MyAuktion: Ablauf Artikel Nr. 923624 Maria Treben, Gesundheit aus der Apotheke Gottes
URL;VALUE=URI:https://www.myauktion.com/versteigerung7662-position2443145-maria-treben-gesundheit-aus-der-apotheke-gottes.php
DESCRIPTION:
UID:myauktion-7662-2443145
BEGIN:VALARM
ACTION:DISPLAY
DESCRIPTION:
TRIGGER:-PT10M
END:VALARM
END:VEVENT
END:VCALENDAR