BEGIN:VCALENDAR
VERSION:2.0
PRODID:-//Goldgrube//myauktion.com//AT
CALSCALE:GREGORIAN
BEGIN:VEVENT
DTSTART:20260426T164800
DTEND:20260426T164830
LOCATION:Gewerbepark 13, 8562 Mooskirchen
DTSTAMP:20260421T203856
SUMMARY:MyAuktion: Ablauf Artikel Nr. 923625 Sprache ist Leben
URL;VALUE=URI:https://www.myauktion.com/versteigerung7662-position2443146-sprache-ist-leben.php
DESCRIPTION:
UID:myauktion-7662-2443146
BEGIN:VALARM
ACTION:DISPLAY
DESCRIPTION:
TRIGGER:-PT10M
END:VALARM
END:VEVENT
END:VCALENDAR