BEGIN:VCALENDAR
VERSION:2.0
PRODID:-//Goldgrube//myauktion.com//AT
CALSCALE:GREGORIAN
BEGIN:VEVENT
DTSTART:20260426T165100
DTEND:20260426T165130
LOCATION:Gewerbepark 13, 8562 Mooskirchen
DTSTAMP:20260422T014506
SUMMARY:MyAuktion: Ablauf Artikel Nr. 923628 Biologie für Alle
URL;VALUE=URI:https://www.myauktion.com/versteigerung7662-position2443149-biologie-fuer-alle.php
DESCRIPTION:
UID:myauktion-7662-2443149
BEGIN:VALARM
ACTION:DISPLAY
DESCRIPTION:
TRIGGER:-PT10M
END:VALARM
END:VEVENT
END:VCALENDAR