BEGIN:VCALENDAR
VERSION:2.0
PRODID:-//Goldgrube//myauktion.com//AT
CALSCALE:GREGORIAN
BEGIN:VEVENT
DTSTART:20260426T165400
DTEND:20260426T165430
LOCATION:Gewerbepark 13, 8562 Mooskirchen
DTSTAMP:20260422T014507
SUMMARY:MyAuktion: Ablauf Artikel Nr. 923631 Biologie für Alle
URL;VALUE=URI:https://www.myauktion.com/versteigerung7662-position2443152-biologie-fuer-alle.php
DESCRIPTION:Lehrerheft
UID:myauktion-7662-2443152
BEGIN:VALARM
ACTION:DISPLAY
DESCRIPTION:Lehrerheft
TRIGGER:-PT10M
END:VALARM
END:VEVENT
END:VCALENDAR