BEGIN:VCALENDAR
VERSION:2.0
PRODID:-//Goldgrube//myauktion.com//AT
CALSCALE:GREGORIAN
BEGIN:VEVENT
DTSTART:20260426T165800
DTEND:20260426T165830
LOCATION:Gewerbepark 13, 8562 Mooskirchen
DTSTAMP:20260421T205652
SUMMARY:MyAuktion: Ablauf Artikel Nr. 923635 101 STEIRISCHE Kostbarkeiten 
URL;VALUE=URI:https://www.myauktion.com/versteigerung7662-position2443156-101-steirische-kostbarkeiten.php
DESCRIPTION:
UID:myauktion-7662-2443156
BEGIN:VALARM
ACTION:DISPLAY
DESCRIPTION:
TRIGGER:-PT10M
END:VALARM
END:VEVENT
END:VCALENDAR