BEGIN:VCALENDAR
VERSION:2.0
PRODID:-//Goldgrube//myauktion.com//AT
CALSCALE:GREGORIAN
BEGIN:VEVENT
DTSTART:20260426T170200
DTEND:20260426T170230
LOCATION:Gewerbepark 13, 8562 Mooskirchen
DTSTAMP:20260421T234504
SUMMARY:MyAuktion: Ablauf Artikel Nr. 923639 Das Erzherzog Johann Kochbuch 
URL;VALUE=URI:https://www.myauktion.com/versteigerung7662-position2443160-das-erzherzog-johann-kochbuch.php
DESCRIPTION:
UID:myauktion-7662-2443160
BEGIN:VALARM
ACTION:DISPLAY
DESCRIPTION:
TRIGGER:-PT10M
END:VALARM
END:VEVENT
END:VCALENDAR