BEGIN:VCALENDAR
VERSION:2.0
PRODID:-//Goldgrube//myauktion.com//AT
CALSCALE:GREGORIAN
BEGIN:VEVENT
DTSTART:20260426T170300
DTEND:20260426T170330
LOCATION:Gewerbepark 13, 8562 Mooskirchen
DTSTAMP:20260421T234508
SUMMARY:MyAuktion: Ablauf Artikel Nr. 923640 La Cucina con Amore
URL;VALUE=URI:https://www.myauktion.com/versteigerung7662-position2443161-la-cucina-con-amore.php
DESCRIPTION:Italienisch genießen mit Familie und Freunden 
UID:myauktion-7662-2443161
BEGIN:VALARM
ACTION:DISPLAY
DESCRIPTION:Italienisch genießen mit Familie und Freunden 
TRIGGER:-PT10M
END:VALARM
END:VEVENT
END:VCALENDAR