BEGIN:VCALENDAR
VERSION:2.0
PRODID:-//Goldgrube//myauktion.com//AT
CALSCALE:GREGORIAN
BEGIN:VEVENT
DTSTART:20260426T170700
DTEND:20260426T170730
LOCATION:Gewerbepark 13, 8562 Mooskirchen
DTSTAMP:20260422T060749
SUMMARY:MyAuktion: Ablauf Artikel Nr. 923644 The Power of Fire in the Middle Ages
URL;VALUE=URI:https://www.myauktion.com/versteigerung7662-position2443165-the-power-of-fire-in-the-middle-ages.php
DESCRIPTION:
UID:myauktion-7662-2443165
BEGIN:VALARM
ACTION:DISPLAY
DESCRIPTION:
TRIGGER:-PT10M
END:VALARM
END:VEVENT
END:VCALENDAR