BEGIN:VCALENDAR
VERSION:2.0
PRODID:-//Goldgrube//myauktion.com//AT
CALSCALE:GREGORIAN
BEGIN:VEVENT
DTSTART:20260426T170800
DTEND:20260426T170830
LOCATION:Gewerbepark 13, 8562 Mooskirchen
DTSTAMP:20260421T234511
SUMMARY:MyAuktion: Ablauf Artikel Nr. 923645 Exploring Dwellings and Manufacturing Spaces in Medieval Context
URL;VALUE=URI:https://www.myauktion.com/versteigerung7662-position2443166-exploring-dwellings-and-manufacturing-spaces-in-medieval-context.php
DESCRIPTION:
UID:myauktion-7662-2443166
BEGIN:VALARM
ACTION:DISPLAY
DESCRIPTION:
TRIGGER:-PT10M
END:VALARM
END:VEVENT
END:VCALENDAR