BEGIN:VCALENDAR
VERSION:2.0
PRODID:-//Goldgrube//myauktion.com//AT
CALSCALE:GREGORIAN
BEGIN:VEVENT
DTSTART:20260426T170900
DTEND:20260426T170930
LOCATION:Gewerbepark 13, 8562 Mooskirchen
DTSTAMP:20260421T234507
SUMMARY:MyAuktion: Ablauf Artikel Nr. 923646 Kurrent in Kirchenbüchern
URL;VALUE=URI:https://www.myauktion.com/versteigerung7662-position2443167-kurrent-in-kirchenbuechern.php
DESCRIPTION:
UID:myauktion-7662-2443167
BEGIN:VALARM
ACTION:DISPLAY
DESCRIPTION:
TRIGGER:-PT10M
END:VALARM
END:VEVENT
END:VCALENDAR