BEGIN:VCALENDAR
VERSION:2.0
PRODID:-//Goldgrube//myauktion.com//AT
CALSCALE:GREGORIAN
BEGIN:VEVENT
DTSTART:20260426T171200
DTEND:20260426T171230
LOCATION:Gewerbepark 13, 8562 Mooskirchen
DTSTAMP:20260421T234507
SUMMARY:MyAuktion: Ablauf Artikel Nr. 923649 Quantenenergie in der Praxis
URL;VALUE=URI:https://www.myauktion.com/versteigerung7662-position2443170-quantenenergie-in-der-praxis.php
DESCRIPTION:
UID:myauktion-7662-2443170
BEGIN:VALARM
ACTION:DISPLAY
DESCRIPTION:
TRIGGER:-PT10M
END:VALARM
END:VEVENT
END:VCALENDAR