BEGIN:VCALENDAR
VERSION:2.0
PRODID:-//Goldgrube//myauktion.com//AT
CALSCALE:GREGORIAN
BEGIN:VEVENT
DTSTART:20260426T171600
DTEND:20260426T171630
LOCATION:Gewerbepark 13, 8562 Mooskirchen
DTSTAMP:20260421T234506
SUMMARY:MyAuktion: Ablauf Artikel Nr. 923653 Die Kunst der Selbstachtung
URL;VALUE=URI:https://www.myauktion.com/versteigerung7662-position2443174-die-kunst-der-selbstachtung.php
DESCRIPTION:
UID:myauktion-7662-2443174
BEGIN:VALARM
ACTION:DISPLAY
DESCRIPTION:
TRIGGER:-PT10M
END:VALARM
END:VEVENT
END:VCALENDAR