BEGIN:VCALENDAR
VERSION:2.0
PRODID:-//Goldgrube//myauktion.com//AT
CALSCALE:GREGORIAN
BEGIN:VEVENT
DTSTART:20260426T172000
DTEND:20260426T172030
LOCATION:Gewerbepark 13, 8562 Mooskirchen
DTSTAMP:20260422T060750
SUMMARY:MyAuktion: Ablauf Artikel Nr. 923657 Ich bin nicht süß, ich hab bloß Zucker 
URL;VALUE=URI:https://www.myauktion.com/versteigerung7662-position2443178-ich-bin-nicht-suess-ich-hab-bloss-zucker.php
DESCRIPTION:Spiegel Bestseller 
UID:myauktion-7662-2443178
BEGIN:VALARM
ACTION:DISPLAY
DESCRIPTION:Spiegel Bestseller 
TRIGGER:-PT10M
END:VALARM
END:VEVENT
END:VCALENDAR