BEGIN:VCALENDAR
VERSION:2.0
PRODID:-//Goldgrube//myauktion.com//AT
CALSCALE:GREGORIAN
BEGIN:VEVENT
DTSTART:20260426T172100
DTEND:20260426T172130
LOCATION:Gewerbepark 13, 8562 Mooskirchen
DTSTAMP:20260421T234502
SUMMARY:MyAuktion: Ablauf Artikel Nr. 923658 Jüdische Schicksale 
URL;VALUE=URI:https://www.myauktion.com/versteigerung7662-position2443179-juedische-schicksale.php
DESCRIPTION:Berichte von Verfolgten
UID:myauktion-7662-2443179
BEGIN:VALARM
ACTION:DISPLAY
DESCRIPTION:Berichte von Verfolgten
TRIGGER:-PT10M
END:VALARM
END:VEVENT
END:VCALENDAR