BEGIN:VCALENDAR
VERSION:2.0
PRODID:-//Goldgrube//myauktion.com//AT
CALSCALE:GREGORIAN
BEGIN:VEVENT
DTSTART:20260426T172300
DTEND:20260426T172330
LOCATION:Gewerbepark 13, 8562 Mooskirchen
DTSTAMP:20260421T234508
SUMMARY:MyAuktion: Ablauf Artikel Nr. 923660 Die Grüne Lüge
URL;VALUE=URI:https://www.myauktion.com/versteigerung7662-position2443181-die-gruene-luege.php
DESCRIPTION:
UID:myauktion-7662-2443181
BEGIN:VALARM
ACTION:DISPLAY
DESCRIPTION:
TRIGGER:-PT10M
END:VALARM
END:VEVENT
END:VCALENDAR