BEGIN:VCALENDAR
VERSION:2.0
PRODID:-//Goldgrube//myauktion.com//AT
CALSCALE:GREGORIAN
BEGIN:VEVENT
DTSTART:20260426T172700
DTEND:20260426T172730
LOCATION:Gewerbepark 13, 8562 Mooskirchen
DTSTAMP:20260422T060749
SUMMARY:MyAuktion: Ablauf Artikel Nr. 923664 Stress nicht so rum, ich finde schon &#39;nen&#39; Job!
URL;VALUE=URI:https://www.myauktion.com/versteigerung7662-position2443185-stress-nicht-so-rum-ich-finde-schon-39nen-39-job.php
DESCRIPTION:
UID:myauktion-7662-2443185
BEGIN:VALARM
ACTION:DISPLAY
DESCRIPTION:
TRIGGER:-PT10M
END:VALARM
END:VEVENT
END:VCALENDAR