BEGIN:VCALENDAR
VERSION:2.0
PRODID:-//Goldgrube//myauktion.com//AT
CALSCALE:GREGORIAN
BEGIN:VEVENT
DTSTART:20260426T172800
DTEND:20260426T172830
LOCATION:Gewerbepark 13, 8562 Mooskirchen
DTSTAMP:20260421T214048
SUMMARY:MyAuktion: Ablauf Artikel Nr. 923665 LIAR, Tödlicher Verrat
URL;VALUE=URI:https://www.myauktion.com/versteigerung7662-position2443186-liar-toedlicher-verrat.php
DESCRIPTION:Thriller 
UID:myauktion-7662-2443186
BEGIN:VALARM
ACTION:DISPLAY
DESCRIPTION:Thriller 
TRIGGER:-PT10M
END:VALARM
END:VEVENT
END:VCALENDAR