BEGIN:VCALENDAR
VERSION:2.0
PRODID:-//Goldgrube//myauktion.com//AT
CALSCALE:GREGORIAN
BEGIN:VEVENT
DTSTART:20260426T172900
DTEND:20260426T172930
LOCATION:Gewerbepark 13, 8562 Mooskirchen
DTSTAMP:20260421T214048
SUMMARY:MyAuktion: Ablauf Artikel Nr. 923666 Ihr werdet sie nicht finden 
URL;VALUE=URI:https://www.myauktion.com/versteigerung7662-position2443187-ihr-werdet-sie-nicht-finden.php
DESCRIPTION:Thriller 
UID:myauktion-7662-2443187
BEGIN:VALARM
ACTION:DISPLAY
DESCRIPTION:Thriller 
TRIGGER:-PT10M
END:VALARM
END:VEVENT
END:VCALENDAR