BEGIN:VCALENDAR
VERSION:2.0
PRODID:-//Goldgrube//myauktion.com//AT
CALSCALE:GREGORIAN
BEGIN:VEVENT
DTSTART:20260426T173200
DTEND:20260426T173230
LOCATION:Gewerbepark 13, 8562 Mooskirchen
DTSTAMP:20260421T234503
SUMMARY:MyAuktion: Ablauf Artikel Nr. 923669 Weltsystem Crash
URL;VALUE=URI:https://www.myauktion.com/versteigerung7662-position2443190-weltsystem-crash.php
DESCRIPTION:Spiegel Bestseller 
UID:myauktion-7662-2443190
BEGIN:VALARM
ACTION:DISPLAY
DESCRIPTION:Spiegel Bestseller 
TRIGGER:-PT10M
END:VALARM
END:VEVENT
END:VCALENDAR