BEGIN:VCALENDAR
VERSION:2.0
PRODID:-//Goldgrube//myauktion.com//AT
CALSCALE:GREGORIAN
BEGIN:VEVENT
DTSTART:20260426T173400
DTEND:20260426T173430
LOCATION:Gewerbepark 13, 8562 Mooskirchen
DTSTAMP:20260421T234509
SUMMARY:MyAuktion: Ablauf Artikel Nr. 923671 Low Carb fürs Büro
URL;VALUE=URI:https://www.myauktion.com/versteigerung7662-position2443192-low-carb-fuers-buero.php
DESCRIPTION:
UID:myauktion-7662-2443192
BEGIN:VALARM
ACTION:DISPLAY
DESCRIPTION:
TRIGGER:-PT10M
END:VALARM
END:VEVENT
END:VCALENDAR