BEGIN:VCALENDAR
VERSION:2.0
PRODID:-//Goldgrube//myauktion.com//AT
CALSCALE:GREGORIAN
BEGIN:VEVENT
DTSTART:20260426T173600
DTEND:20260426T173630
LOCATION:Gewerbepark 13, 8562 Mooskirchen
DTSTAMP:20260421T234502
SUMMARY:MyAuktion: Ablauf Artikel Nr. 923673 Low Carb Expressgerichte
URL;VALUE=URI:https://www.myauktion.com/versteigerung7662-position2443194-low-carb-expressgerichte.php
DESCRIPTION:
UID:myauktion-7662-2443194
BEGIN:VALARM
ACTION:DISPLAY
DESCRIPTION:
TRIGGER:-PT10M
END:VALARM
END:VEVENT
END:VCALENDAR