BEGIN:VCALENDAR
VERSION:2.0
PRODID:-//Goldgrube//myauktion.com//AT
CALSCALE:GREGORIAN
BEGIN:VEVENT
DTSTART:20260426T173900
DTEND:20260426T173930
LOCATION:Gewerbepark 13, 8562 Mooskirchen
DTSTAMP:20260421T234504
SUMMARY:MyAuktion: Ablauf Artikel Nr. 923676 Der kleine Buddha 
URL;VALUE=URI:https://www.myauktion.com/versteigerung7662-position2443197-der-kleine-buddha.php
DESCRIPTION:Und die Sache mit der Liebe 
UID:myauktion-7662-2443197
BEGIN:VALARM
ACTION:DISPLAY
DESCRIPTION:Und die Sache mit der Liebe 
TRIGGER:-PT10M
END:VALARM
END:VEVENT
END:VCALENDAR