BEGIN:VCALENDAR
VERSION:2.0
PRODID:-//Goldgrube//myauktion.com//AT
CALSCALE:GREGORIAN
BEGIN:VEVENT
DTSTART:20260426T174200
DTEND:20260426T174230
LOCATION:Gewerbepark 13, 8562 Mooskirchen
DTSTAMP:20260421T234505
SUMMARY:MyAuktion: Ablauf Artikel Nr. 923679 Wilde Köstlichkeiten aus dem Wald
URL;VALUE=URI:https://www.myauktion.com/versteigerung7662-position2443200-wilde-koestlichkeiten-aus-dem-wald.php
DESCRIPTION:
UID:myauktion-7662-2443200
BEGIN:VALARM
ACTION:DISPLAY
DESCRIPTION:
TRIGGER:-PT10M
END:VALARM
END:VEVENT
END:VCALENDAR