BEGIN:VCALENDAR
VERSION:2.0
PRODID:-//Goldgrube//myauktion.com//AT
CALSCALE:GREGORIAN
BEGIN:VEVENT
DTSTART:20260426T174500
DTEND:20260426T174530
LOCATION:Gewerbepark 13, 8562 Mooskirchen
DTSTAMP:20260421T234504
SUMMARY:MyAuktion: Ablauf Artikel Nr. 923682 Such dir einen schönen Stern am Himmel 
URL;VALUE=URI:https://www.myauktion.com/versteigerung7662-position2443203-such-dir-einen-schoenen-stern-am-himmel.php
DESCRIPTION:
UID:myauktion-7662-2443203
BEGIN:VALARM
ACTION:DISPLAY
DESCRIPTION:
TRIGGER:-PT10M
END:VALARM
END:VEVENT
END:VCALENDAR