BEGIN:VCALENDAR
VERSION:2.0
PRODID:-//Goldgrube//myauktion.com//AT
CALSCALE:GREGORIAN
BEGIN:VEVENT
DTSTART:20260426T174600
DTEND:20260426T174630
LOCATION:Gewerbepark 13, 8562 Mooskirchen
DTSTAMP:20260421T234503
SUMMARY:MyAuktion: Ablauf Artikel Nr. 923683 Die größten 10 Lernlust Killer
URL;VALUE=URI:https://www.myauktion.com/versteigerung7662-position2443204-die-groessten-10-lernlust-killer.php
DESCRIPTION:
UID:myauktion-7662-2443204
BEGIN:VALARM
ACTION:DISPLAY
DESCRIPTION:
TRIGGER:-PT10M
END:VALARM
END:VEVENT
END:VCALENDAR