BEGIN:VCALENDAR
VERSION:2.0
PRODID:-//Goldgrube//myauktion.com//AT
CALSCALE:GREGORIAN
BEGIN:VEVENT
DTSTART:20260426T174700
DTEND:20260426T174730
LOCATION:Gewerbepark 13, 8562 Mooskirchen
DTSTAMP:20260421T234508
SUMMARY:MyAuktion: Ablauf Artikel Nr. 923684 Fox Series, Book One
URL;VALUE=URI:https://www.myauktion.com/versteigerung7662-position2443205-fox-series-book-one.php
DESCRIPTION:Comic
UID:myauktion-7662-2443205
BEGIN:VALARM
ACTION:DISPLAY
DESCRIPTION:Comic
TRIGGER:-PT10M
END:VALARM
END:VEVENT
END:VCALENDAR