BEGIN:VCALENDAR
VERSION:2.0
PRODID:-//Goldgrube//myauktion.com//AT
CALSCALE:GREGORIAN
BEGIN:VEVENT
DTSTART:20260426T174800
DTEND:20260426T174830
LOCATION:Gewerbepark 13, 8562 Mooskirchen
DTSTAMP:20260422T060749
SUMMARY:MyAuktion: Ablauf Artikel Nr. 923685 Mit mutigem Schritt zurück zum Glück 
URL;VALUE=URI:https://www.myauktion.com/versteigerung7662-position2443206-mit-mutigem-schritt-zurueck-zum-glueck.php
DESCRIPTION:Spiegel Bestseller 
UID:myauktion-7662-2443206
BEGIN:VALARM
ACTION:DISPLAY
DESCRIPTION:Spiegel Bestseller 
TRIGGER:-PT10M
END:VALARM
END:VEVENT
END:VCALENDAR