BEGIN:VCALENDAR
VERSION:2.0
PRODID:-//Goldgrube//myauktion.com//AT
CALSCALE:GREGORIAN
BEGIN:VEVENT
DTSTART:20260426T174900
DTEND:20260426T174930
LOCATION:Gewerbepark 13, 8562 Mooskirchen
DTSTAMP:20260421T214048
SUMMARY:MyAuktion: Ablauf Artikel Nr. 923686 Der Zeitindex
URL;VALUE=URI:https://www.myauktion.com/versteigerung7662-position2443207-der-zeitindex.php
DESCRIPTION:Thriller 
UID:myauktion-7662-2443207
BEGIN:VALARM
ACTION:DISPLAY
DESCRIPTION:Thriller 
TRIGGER:-PT10M
END:VALARM
END:VEVENT
END:VCALENDAR