BEGIN:VCALENDAR
VERSION:2.0
PRODID:-//Goldgrube//myauktion.com//AT
CALSCALE:GREGORIAN
BEGIN:VEVENT
DTSTART:20260426T175000
DTEND:20260426T175030
LOCATION:Gewerbepark 13, 8562 Mooskirchen
DTSTAMP:20260421T234503
SUMMARY:MyAuktion: Ablauf Artikel Nr. 923687 Die Innere Ruhe finden
URL;VALUE=URI:https://www.myauktion.com/versteigerung7662-position2443208-die-innere-ruhe-finden.php
DESCRIPTION:
UID:myauktion-7662-2443208
BEGIN:VALARM
ACTION:DISPLAY
DESCRIPTION:
TRIGGER:-PT10M
END:VALARM
END:VEVENT
END:VCALENDAR