BEGIN:VCALENDAR
VERSION:2.0
PRODID:-//Goldgrube//myauktion.com//AT
CALSCALE:GREGORIAN
BEGIN:VEVENT
DTSTART:20260426T175300
DTEND:20260426T175330
LOCATION:Gewerbepark 13, 8562 Mooskirchen
DTSTAMP:20260422T060751
SUMMARY:MyAuktion: Ablauf Artikel Nr. 923690 Originalverpackt, Postimperiale Narrative im zentraleuropäischen Raum
URL;VALUE=URI:https://www.myauktion.com/versteigerung7662-position2443211-originalverpackt-postimperiale-narrative-im-zentraleuropaeischen-raum.php
DESCRIPTION:
UID:myauktion-7662-2443211
BEGIN:VALARM
ACTION:DISPLAY
DESCRIPTION:
TRIGGER:-PT10M
END:VALARM
END:VEVENT
END:VCALENDAR