BEGIN:VCALENDAR
VERSION:2.0
PRODID:-//Goldgrube//myauktion.com//AT
CALSCALE:GREGORIAN
BEGIN:VEVENT
DTSTART:20260426T175400
DTEND:20260426T175430
LOCATION:Gewerbepark 13, 8562 Mooskirchen
DTSTAMP:20260421T234502
SUMMARY:MyAuktion: Ablauf Artikel Nr. 923691 Believe it to Achieve it
URL;VALUE=URI:https://www.myauktion.com/versteigerung7662-position2443212-believe-it-to-achieve-it.php
DESCRIPTION:
UID:myauktion-7662-2443212
BEGIN:VALARM
ACTION:DISPLAY
DESCRIPTION:
TRIGGER:-PT10M
END:VALARM
END:VEVENT
END:VCALENDAR