BEGIN:VCALENDAR
VERSION:2.0
PRODID:-//Goldgrube//myauktion.com//AT
CALSCALE:GREGORIAN
BEGIN:VEVENT
DTSTART:20260426T175500
DTEND:20260426T175530
LOCATION:Gewerbepark 13, 8562 Mooskirchen
DTSTAMP:20260422T060751
SUMMARY:MyAuktion: Ablauf Artikel Nr. 923692 Die FRAUEN der ROTHSCHILDS
URL;VALUE=URI:https://www.myauktion.com/versteigerung7662-position2443213-die-frauen-der-rothschilds.php
DESCRIPTION:
UID:myauktion-7662-2443213
BEGIN:VALARM
ACTION:DISPLAY
DESCRIPTION:
TRIGGER:-PT10M
END:VALARM
END:VEVENT
END:VCALENDAR